Package: hierinf Version: 1.28.0 Command: /home/biocbuild/bbs-3.22-bioc/R/bin/R CMD check --install=check:hierinf.install-out.txt --library=/home/biocbuild/bbs-3.22-bioc/R/site-library --timings hierinf_1.28.0.tar.gz StartedAt: 2025-11-14 00:37:40 -0500 (Fri, 14 Nov 2025) EndedAt: 2025-11-14 00:41:43 -0500 (Fri, 14 Nov 2025) EllapsedTime: 243.4 seconds RetCode: 0 Status: OK CheckDir: hierinf.Rcheck Warnings: 0