Package: hierinf Version: 1.26.0 Command: /home/biocbuild/bbs-3.21-bioc/R/bin/R CMD INSTALL hierinf StartedAt: 2025-10-12 15:05:54 -0400 (Sun, 12 Oct 2025) EndedAt: 2025-10-12 15:06:23 -0400 (Sun, 12 Oct 2025) EllapsedTime: 28.6 seconds RetCode: 0 Status: OK