Package: hierinf Version: 1.26.0 Command: /home/biocbuild/bbs-3.21-bioc/R/bin/R CMD build --keep-empty-dirs --no-resave-data hierinf StartedAt: 2025-10-12 17:58:30 -0400 (Sun, 12 Oct 2025) EndedAt: 2025-10-12 17:59:52 -0400 (Sun, 12 Oct 2025) EllapsedTime: 82.1 seconds RetCode: 0 Status: OK PackageFile: hierinf_1.26.0.tar.gz PackageFileSize: 431.9 KiB