Package: hierGWAS Version: 1.40.0 Command: /home/biocbuild/R/R/bin/R CMD INSTALL hierGWAS StartedAt: 2025-11-13 21:08:05 -0000 (Thu, 13 Nov 2025) EndedAt: 2025-11-13 21:08:57 -0000 (Thu, 13 Nov 2025) EllapsedTime: 51.9 seconds RetCode: 0 Status: OK