Package: hierGWAS Version: 1.40.0 Command: /home/biocbuild/R/R/bin/R CMD build --keep-empty-dirs --no-resave-data hierGWAS StartedAt: 2025-11-14 02:31:23 -0000 (Fri, 14 Nov 2025) EndedAt: 2025-11-14 02:33:12 -0000 (Fri, 14 Nov 2025) EllapsedTime: 109.1 seconds RetCode: 0 Status: OK PackageFile: hierGWAS_1.40.0.tar.gz PackageFileSize: 556 KiB