Package: hierGWAS Version: 1.40.0 Command: /home/biocbuild/bbs-3.22-bioc/R/bin/R CMD build --keep-empty-dirs --no-resave-data --md5 hierGWAS StartedAt: 2025-11-11 18:13:02 -0500 (Tue, 11 Nov 2025) EndedAt: 2025-11-11 18:14:37 -0500 (Tue, 11 Nov 2025) EllapsedTime: 95.1 seconds RetCode: 0 Status: OK PackageFile: hierGWAS_1.40.0.tar.gz PackageFileSize: 568.3 KiB