Package: hierGWAS Version: 1.38.0 Command: /home/biocbuild/bbs-3.21-bioc/R/bin/R CMD build --keep-empty-dirs --no-resave-data hierGWAS StartedAt: 2025-10-12 17:58:24 -0400 (Sun, 12 Oct 2025) EndedAt: 2025-10-12 17:59:43 -0400 (Sun, 12 Oct 2025) EllapsedTime: 79.1 seconds RetCode: 0 Status: OK PackageFile: hierGWAS_1.38.0.tar.gz PackageFileSize: 567.1 KiB