Package: hierGWAS Version: 1.38.0 Command: /Library/Frameworks/R.framework/Resources/bin/R CMD INSTALL hierGWAS StartedAt: 2025-04-21 15:06:23 -0400 (Mon, 21 Apr 2025) EndedAt: 2025-04-21 15:07:20 -0400 (Mon, 21 Apr 2025) EllapsedTime: 57.1 seconds RetCode: 0 Status: OK