Package: hierGWAS Version: 1.38.0 Command: /Library/Frameworks/R.framework/Resources/bin/R CMD INSTALL hierGWAS StartedAt: 2025-10-09 15:16:29 -0400 (Thu, 09 Oct 2025) EndedAt: 2025-10-09 15:16:38 -0400 (Thu, 09 Oct 2025) EllapsedTime: 9.3 seconds RetCode: 0 Status: OK