Package: hierGWAS Version: 1.38.0 Command: /Library/Frameworks/R.framework/Resources/bin/R CMD build --keep-empty-dirs --no-resave-data hierGWAS StartedAt: 2025-10-10 02:31:09 -0400 (Fri, 10 Oct 2025) EndedAt: 2025-10-10 02:34:03 -0400 (Fri, 10 Oct 2025) EllapsedTime: 174.1 seconds RetCode: 0 Status: OK PackageFile: hierGWAS_1.38.0.tar.gz PackageFileSize: 567.2 KiB