Package: hierGWAS Version: 1.38.0 Command: rm -rf hierGWAS.buildbin-libdir && mkdir hierGWAS.buildbin-libdir && /Users/biocbuild/BBS/utils/build-universal.sh hierGWAS_1.38.0.tar.gz /Library/Frameworks/R.framework/Resources/bin/R hierGWAS.buildbin-libdir StartedAt: 2025-10-11 20:33:45 -0400 (Sat, 11 Oct 2025) EndedAt: 2025-10-11 20:33:54 -0400 (Sat, 11 Oct 2025) EllapsedTime: 9.2 seconds RetCode: 0 Status: OK PackageFile: hierGWAS_1.38.0.tgz PackageFileSize: 554.4 KiB