Package: hicVennDiagram Version: 1.8.0 Command: /home/biocbuild/R/R/bin/R CMD build --keep-empty-dirs --no-resave-data hicVennDiagram StartedAt: 2025-11-14 02:30:54 -0000 (Fri, 14 Nov 2025) EndedAt: 2025-11-14 02:33:27 -0000 (Fri, 14 Nov 2025) EllapsedTime: 153.1 seconds RetCode: 0 Status: OK PackageFile: hicVennDiagram_1.8.0.tar.gz PackageFileSize: 991.2 KiB