Package: hicVennDiagram Version: 1.7.2 Command: rm -rf hicVennDiagram.buildbin-libdir && mkdir hicVennDiagram.buildbin-libdir && F:\biocbuild\bbs-3.22-bioc\R\bin\R.exe CMD INSTALL --build --library=hicVennDiagram.buildbin-libdir hicVennDiagram_1.7.2.tar.gz StartedAt: 2025-08-15 10:28:09 -0400 (Fri, 15 Aug 2025) EndedAt: 2025-08-15 10:30:09 -0400 (Fri, 15 Aug 2025) EllapsedTime: 120.4 seconds RetCode: 0 Status: OK PackageFile: hicVennDiagram_1.7.2.zip PackageFileSize: 1.096 MiB