Package: hicVennDiagram Version: 1.8.0 Command: /home/biocbuild/bbs-3.22-bioc/R/bin/R CMD INSTALL hicVennDiagram StartedAt: 2025-11-11 15:31:10 -0500 (Tue, 11 Nov 2025) EndedAt: 2025-11-11 15:31:46 -0500 (Tue, 11 Nov 2025) EllapsedTime: 35.9 seconds RetCode: 0 Status: OK