Package: hicVennDiagram Version: 1.8.0 Command: /home/biocbuild/bbs-3.22-bioc/R/bin/R CMD build --keep-empty-dirs --no-resave-data --md5 hicVennDiagram StartedAt: 2025-11-11 18:12:49 -0500 (Tue, 11 Nov 2025) EndedAt: 2025-11-11 18:14:45 -0500 (Tue, 11 Nov 2025) EllapsedTime: 116.1 seconds RetCode: 0 Status: OK PackageFile: hicVennDiagram_1.8.0.tar.gz PackageFileSize: 1.126 MiB