Package: hicVennDiagram Version: 1.6.0 Command: /home/biocbuild/bbs-3.21-bioc/R/bin/R CMD INSTALL hicVennDiagram StartedAt: 2025-10-01 15:29:27 -0400 (Wed, 01 Oct 2025) EndedAt: 2025-10-01 15:30:04 -0400 (Wed, 01 Oct 2025) EllapsedTime: 36.6 seconds RetCode: 0 Status: OK