Package: hicVennDiagram Version: 1.6.0 Command: /home/biocbuild/bbs-3.21-bioc/R/bin/R CMD build --keep-empty-dirs --no-resave-data hicVennDiagram StartedAt: 2025-10-01 18:02:55 -0400 (Wed, 01 Oct 2025) EndedAt: 2025-10-01 18:03:53 -0400 (Wed, 01 Oct 2025) EllapsedTime: 58.0 seconds RetCode: 1 Status: ERROR PackageFile: None PackageFileSize: NA