Package: hicVennDiagram Version: 1.6.1 Command: /Library/Frameworks/R.framework/Resources/bin/R CMD INSTALL hicVennDiagram StartedAt: 2025-10-13 15:50:10 -0400 (Mon, 13 Oct 2025) EndedAt: 2025-10-13 15:51:24 -0400 (Mon, 13 Oct 2025) EllapsedTime: 73.7 seconds RetCode: 0 Status: OK