Package: hicVennDiagram Version: 1.6.1 Command: /Library/Frameworks/R.framework/Resources/bin/R CMD build --keep-empty-dirs --no-resave-data hicVennDiagram StartedAt: 2025-10-13 19:44:12 -0400 (Mon, 13 Oct 2025) EndedAt: 2025-10-13 19:48:45 -0400 (Mon, 13 Oct 2025) EllapsedTime: 273.5 seconds RetCode: 0 Status: OK PackageFile: hicVennDiagram_1.6.1.tar.gz PackageFileSize: 1.185 MiB