Package: hicVennDiagram Version: 1.6.0 Command: /Library/Frameworks/R.framework/Resources/bin/R CMD INSTALL hicVennDiagram StartedAt: 2025-10-02 16:41:41 -0400 (Thu, 02 Oct 2025) EndedAt: 2025-10-02 16:42:24 -0400 (Thu, 02 Oct 2025) EllapsedTime: 42.8 seconds RetCode: 0 Status: OK