Package: hicVennDiagram Version: 1.6.0 Command: /Library/Frameworks/R.framework/Resources/bin/R CMD build --keep-empty-dirs --no-resave-data hicVennDiagram StartedAt: 2025-10-03 02:15:35 -0400 (Fri, 03 Oct 2025) EndedAt: 2025-10-03 02:16:41 -0400 (Fri, 03 Oct 2025) EllapsedTime: 66.0 seconds RetCode: 1 Status: ERROR PackageFile: None PackageFileSize: NA