Package: hiReadsProcessor Version: 1.46.0 Command: /home/biocbuild/R/R/bin/R CMD INSTALL hiReadsProcessor StartedAt: 2025-11-13 21:59:32 -0000 (Thu, 13 Nov 2025) EndedAt: 2025-11-13 22:00:22 -0000 (Thu, 13 Nov 2025) EllapsedTime: 50.4 seconds RetCode: 0 Status: OK