Package: hiReadsProcessor Version: 1.46.0 Command: /home/biocbuild/bbs-3.22-bioc/R/bin/R CMD check --install=check:hiReadsProcessor.install-out.txt --library=/home/biocbuild/bbs-3.22-bioc/R/site-library --timings hiReadsProcessor_1.46.0.tar.gz StartedAt: 2025-11-12 00:33:47 -0500 (Wed, 12 Nov 2025) EndedAt: 2025-11-12 00:38:40 -0500 (Wed, 12 Nov 2025) EllapsedTime: 293.3 seconds RetCode: 1 Status: ERROR CheckDir: hiReadsProcessor.Rcheck Warnings: NA