Package: hiReadsProcessor Version: 1.44.0 Command: /Library/Frameworks/R.framework/Resources/bin/R CMD INSTALL hiReadsProcessor StartedAt: 2025-10-06 16:29:13 -0400 (Mon, 06 Oct 2025) EndedAt: 2025-10-06 16:30:35 -0400 (Mon, 06 Oct 2025) EllapsedTime: 82.0 seconds RetCode: 0 Status: OK