Package: hiAnnotator Version: 1.44.0 Command: /home/biocbuild/bbs-3.22-bioc/R/bin/R CMD INSTALL hiAnnotator StartedAt: 2025-11-11 15:32:17 -0500 (Tue, 11 Nov 2025) EndedAt: 2025-11-11 15:32:52 -0500 (Tue, 11 Nov 2025) EllapsedTime: 35.1 seconds RetCode: 0 Status: OK