Package: hiAnnotator Version: 1.44.0 Command: /home/biocbuild/bbs-3.22-bioc/R/bin/R CMD build --keep-empty-dirs --no-resave-data --md5 hiAnnotator StartedAt: 2025-11-11 18:10:56 -0500 (Tue, 11 Nov 2025) EndedAt: 2025-11-11 18:11:46 -0500 (Tue, 11 Nov 2025) EllapsedTime: 50.1 seconds RetCode: 1 Status: ERROR PackageFile: None PackageFileSize: NA