Package: hiAnnotator Version: 1.42.0 Command: /home/biocbuild/R/R/bin/R CMD INSTALL hiAnnotator StartedAt: 2025-10-13 20:42:41 -0000 (Mon, 13 Oct 2025) EndedAt: 2025-10-13 20:43:31 -0000 (Mon, 13 Oct 2025) EllapsedTime: 50.0 seconds RetCode: 0 Status: OK