Package: hiAnnotator Version: 1.44.0 Command: /Library/Frameworks/R.framework/Resources/bin/R CMD INSTALL hiAnnotator StartedAt: 2025-11-10 15:17:04 -0500 (Mon, 10 Nov 2025) EndedAt: 2025-11-10 15:17:19 -0500 (Mon, 10 Nov 2025) EllapsedTime: 14.9 seconds RetCode: 0 Status: OK