Package: hiAnnotator Version: 1.44.0 Command: /Library/Frameworks/R.framework/Resources/bin/R CMD build --keep-empty-dirs --no-resave-data hiAnnotator StartedAt: 2025-11-10 16:41:05 -0500 (Mon, 10 Nov 2025) EndedAt: 2025-11-10 16:41:26 -0500 (Mon, 10 Nov 2025) EllapsedTime: 21.3 seconds RetCode: 1 Status: ERROR PackageFile: None PackageFileSize: NA