Package: hermes Version: 1.14.0 Command: /home/biocbuild/bbs-3.22-bioc/R/bin/R CMD INSTALL hermes StartedAt: 2025-11-03 15:27:23 -0500 (Mon, 03 Nov 2025) EndedAt: 2025-11-03 15:28:11 -0500 (Mon, 03 Nov 2025) EllapsedTime: 48.1 seconds RetCode: 0 Status: OK