Package: hermes Version: 1.14.0 Command: /home/biocbuild/bbs-3.22-bioc/R/bin/R CMD build --keep-empty-dirs --no-resave-data --md5 hermes StartedAt: 2025-11-03 18:06:57 -0500 (Mon, 03 Nov 2025) EndedAt: 2025-11-03 18:08:33 -0500 (Mon, 03 Nov 2025) EllapsedTime: 96.1 seconds RetCode: 0 Status: OK PackageFile: hermes_1.14.0.tar.gz PackageFileSize: 4.22 MiB