Package: heatmaps Version: 1.34.0 Command: /home/biocbuild/bbs-3.22-bioc/R/bin/R CMD INSTALL heatmaps StartedAt: 2025-11-13 15:33:12 -0500 (Thu, 13 Nov 2025) EndedAt: 2025-11-13 15:33:29 -0500 (Thu, 13 Nov 2025) EllapsedTime: 16.2 seconds RetCode: 0 Status: OK