Package: hdxmsqc Version: 1.6.0 Command: /home/biocbuild/bbs-3.22-bioc/R/bin/R CMD build --keep-empty-dirs --no-resave-data --md5 hdxmsqc StartedAt: 2025-11-17 21:26:06 -0500 (Mon, 17 Nov 2025) EndedAt: 2025-11-17 21:30:00 -0500 (Mon, 17 Nov 2025) EllapsedTime: 234.2 seconds RetCode: 0 Status: OK PackageFile: hdxmsqc_1.6.0.tar.gz PackageFileSize: 5.485 MiB