Package: hapFabia Version: 1.52.0 Command: /Library/Frameworks/R.framework/Resources/bin/R CMD INSTALL hapFabia StartedAt: 2025-11-03 15:19:52 -0500 (Mon, 03 Nov 2025) EndedAt: 2025-11-03 15:20:05 -0500 (Mon, 03 Nov 2025) EllapsedTime: 12.8 seconds RetCode: 0 Status: OK