Package: hapFabia Version: 1.52.0 Command: /Library/Frameworks/R.framework/Resources/bin/R CMD build --keep-empty-dirs --no-resave-data hapFabia StartedAt: 2025-11-03 17:19:01 -0500 (Mon, 03 Nov 2025) EndedAt: 2025-11-03 17:19:33 -0500 (Mon, 03 Nov 2025) EllapsedTime: 32.0 seconds RetCode: 0 Status: OK PackageFile: hapFabia_1.52.0.tar.gz PackageFileSize: 1.62 MiB