Package: hapFabia Version: 1.52.0 Command: /Library/Frameworks/R.framework/Resources/bin/R CMD build --keep-empty-dirs --no-resave-data hapFabia StartedAt: 2025-10-29 23:01:53 -0400 (Wed, 29 Oct 2025) EndedAt: 2025-10-29 23:02:06 -0400 (Wed, 29 Oct 2025) EllapsedTime: 13.1 seconds RetCode: 0 Status: OK PackageFile: hapFabia_1.52.0.tar.gz PackageFileSize: 1.623 MiB