Package: hapFabia Version: 1.52.0 Command: rm -rf hapFabia.buildbin-libdir && mkdir hapFabia.buildbin-libdir && /Users/biocbuild/BBS/utils/build-universal.sh hapFabia_1.52.0.tar.gz /Library/Frameworks/R.framework/Resources/bin/R hapFabia.buildbin-libdir StartedAt: 2025-10-30 05:27:21 -0400 (Thu, 30 Oct 2025) EndedAt: 2025-10-30 05:27:26 -0400 (Thu, 30 Oct 2025) EllapsedTime: 5.1 seconds RetCode: 0 Status: OK PackageFile: hapFabia_1.52.0.tgz PackageFileSize: 1.783 MiB