Package: h5vc Version: 2.44.0 Command: /home/biocbuild/bbs-3.22-bioc/R/bin/R CMD check --install=check:h5vc.install-out.txt --library=/home/biocbuild/bbs-3.22-bioc/R/site-library --timings h5vc_2.44.0.tar.gz StartedAt: 2025-11-12 00:24:52 -0500 (Wed, 12 Nov 2025) EndedAt: 2025-11-12 00:31:36 -0500 (Wed, 12 Nov 2025) EllapsedTime: 403.4 seconds RetCode: 0 Status: WARNINGS CheckDir: h5vc.Rcheck Warnings: 1