Package: h5vc Version: 2.44.0 Command: /home/biocbuild/bbs-3.22-bioc/R/bin/R CMD build --keep-empty-dirs --no-resave-data --md5 h5vc StartedAt: 2025-11-11 18:08:24 -0500 (Tue, 11 Nov 2025) EndedAt: 2025-11-11 18:12:22 -0500 (Tue, 11 Nov 2025) EllapsedTime: 238.2 seconds RetCode: 0 Status: OK PackageFile: h5vc_2.44.0.tar.gz PackageFileSize: 1.624 MiB