Package: h5vc Version: 2.42.0 Command: /home/biocbuild/bbs-3.21-bioc/R/bin/R CMD INSTALL h5vc StartedAt: 2025-10-15 15:15:14 -0400 (Wed, 15 Oct 2025) EndedAt: 2025-10-15 15:15:34 -0400 (Wed, 15 Oct 2025) EllapsedTime: 19.6 seconds RetCode: 0 Status: OK