Package: h5vc Version: 2.42.0 Command: /home/biocbuild/bbs-3.21-bioc/R/bin/R CMD build --keep-empty-dirs --no-resave-data h5vc StartedAt: 2025-10-15 17:55:08 -0400 (Wed, 15 Oct 2025) EndedAt: 2025-10-15 17:59:07 -0400 (Wed, 15 Oct 2025) EllapsedTime: 238.5 seconds RetCode: 0 Status: OK PackageFile: h5vc_2.42.0.tar.gz PackageFileSize: 1.621 MiB