Package: h5vc Version: 2.42.0 Command: /Library/Frameworks/R.framework/Resources/bin/R CMD INSTALL h5vc StartedAt: 2025-10-13 16:01:11 -0400 (Mon, 13 Oct 2025) EndedAt: 2025-10-13 16:01:34 -0400 (Mon, 13 Oct 2025) EllapsedTime: 23.4 seconds RetCode: 0 Status: OK