Package: h5vc Version: 2.42.0 Command: rm -rf h5vc.buildbin-libdir && mkdir h5vc.buildbin-libdir && /Users/biocbuild/BBS/utils/build-universal.sh h5vc_2.42.0.tar.gz /Library/Frameworks/R.framework/Resources/bin/R h5vc.buildbin-libdir StartedAt: 2025-10-15 18:49:37 -0400 (Wed, 15 Oct 2025) EndedAt: 2025-10-15 18:50:04 -0400 (Wed, 15 Oct 2025) EllapsedTime: 27.2 seconds RetCode: 0 Status: OK PackageFile: h5vc_2.42.0.tgz PackageFileSize: 2.136 MiB