Package: h5vc Version: 2.42.0 Maintainer: Paul Theodor Pyl MaintainerEmail: paul.theodor.pyl at gmail.com git_url: https://git.bioconductor.org/packages/h5vc git_branch: RELEASE_3_21 git_last_commit: 4cf0334 git_last_commit_date: 2025-04-15 10:27:34 -0400 (Tue, 15 Apr 2025)