Package: gypsum Version: 1.6.0 Command: /Library/Frameworks/R.framework/Resources/bin/R CMD INSTALL gypsum StartedAt: 2025-11-10 15:04:52 -0500 (Mon, 10 Nov 2025) EndedAt: 2025-11-10 15:04:57 -0500 (Mon, 10 Nov 2025) EllapsedTime: 5.5 seconds RetCode: 0 Status: OK