Package: gypsum Version: 1.6.0 Command: /Library/Frameworks/R.framework/Resources/bin/R CMD build --keep-empty-dirs --no-resave-data gypsum StartedAt: 2025-11-10 16:39:26 -0500 (Mon, 10 Nov 2025) EndedAt: 2025-11-10 16:39:31 -0500 (Mon, 10 Nov 2025) EllapsedTime: 5.1 seconds RetCode: 0 Status: OK PackageFile: gypsum_1.6.0.tar.gz PackageFileSize: 274.5 KiB