Package: gypsum Version: 1.6.0 Command: rm -rf gypsum.buildbin-libdir && mkdir gypsum.buildbin-libdir && /Users/biocbuild/BBS/utils/build-universal.sh gypsum_1.6.0.tar.gz /Library/Frameworks/R.framework/Resources/bin/R gypsum.buildbin-libdir StartedAt: 2025-11-10 23:22:48 -0500 (Mon, 10 Nov 2025) EndedAt: 2025-11-10 23:22:50 -0500 (Mon, 10 Nov 2025) EllapsedTime: 2.0 seconds RetCode: 0 Status: OK PackageFile: gypsum_1.6.0.tgz PackageFileSize: 423.2 KiB