Package: gwasurvivr Version: 1.28.0 Command: /home/biocbuild/bbs-3.22-bioc/R/bin/R CMD INSTALL gwasurvivr StartedAt: 2025-11-13 15:44:42 -0500 (Thu, 13 Nov 2025) EndedAt: 2025-11-13 15:45:28 -0500 (Thu, 13 Nov 2025) EllapsedTime: 45.6 seconds RetCode: 0 Status: OK