Package: gtrellis Version: 1.42.0 Command: /home/biocbuild/bbs-3.22-bioc/R/bin/R CMD INSTALL gtrellis StartedAt: 2025-11-11 15:20:11 -0500 (Tue, 11 Nov 2025) EndedAt: 2025-11-11 15:20:20 -0500 (Tue, 11 Nov 2025) EllapsedTime: 9.5 seconds RetCode: 0 Status: OK