Package: gtrellis Version: 1.42.0 Command: /home/biocbuild/bbs-3.22-bioc/R/bin/R CMD check --install=check:gtrellis.install-out.txt --library=/home/biocbuild/bbs-3.22-bioc/R/site-library --timings gtrellis_1.42.0.tar.gz StartedAt: 2025-11-15 00:27:28 -0500 (Sat, 15 Nov 2025) EndedAt: 2025-11-15 00:31:43 -0500 (Sat, 15 Nov 2025) EllapsedTime: 255.3 seconds RetCode: 0 Status: OK CheckDir: gtrellis.Rcheck Warnings: 0